BEGIN:VCALENDAR
METHOD:PUBLISH
PRODID:-//4148@www.region-coburg.tv//NONSGML iCalcreator 2.4.3//
VERSION:2.0
BEGIN:VEVENT
UID:4148-20171119110000-20171119000000@www.region-coburg.tv
DTSTAMP:20260422T140700Z
CONTACT:Eintritt frei!
CREATED:20171028T180100Z
DESCRIPTION:Das Land des LächelnsOperette von Franz LehárLandestheater Co
 burg\, Matinée zur Premiere am 2. Dezember 2017 - Tickets: Eintritt frei!
DTEND:20171119T000000
DTSTART:20171119T110000
LAST-MODIFIED:20171028T180100Z
LOCATION:Landestheater Coburg\, Spiegelsaal
SUMMARY:Matinée
X-IMAGE:http://www.region-coburg.tv/images/medium/ltc-7b7cb14f.jpg
END:VEVENT
END:VCALENDAR
