BEGIN:VCALENDAR
METHOD:PUBLISH
PRODID:-//4147@www.region-coburg.tv//NONSGML iCalcreator 2.4.3//
VERSION:2.0
BEGIN:VEVENT
UID:4147-20180119200000-20180119000000@www.region-coburg.tv
DTSTAMP:20260423T084138Z
CONTACT:09561 / 898989
CREATED:20171028T175500Z
DESCRIPTION:Nach der gleichnamigen Fernsehserie von Wolfgang MengeFrüher w
 ar alles besser. Das Theater und das Fernsehen arbeiteten noch Hand in Han
 d und die politischen Lager in Deutschland waren klar voneinander zu unter
 scheiden. Hier die reaktionären Spießer und da die Sozen. Mit „Ein Her
 z und eine Seele' hielt die amerikanische Erfindung der „Sitcom' Einzug 
 in den bundesrepublikanischen Fernsehabend\, der noch streng in drei Progr
 amme unterteilt war. Regisseur Wolfgang Menge setzte auf Tagespolitik und 
 zeichnete jede Folge am Sendetag auf.Landestheater Coburg\, Premiere am 16
 . November 2017 - Tickets: 09561 / 898989
DTEND:20180119T000000
DTSTART:20180119T200000
LAST-MODIFIED:20171028T175500Z
LOCATION:Saal Münchner Hofbräu
SUMMARY:Ein Herz und eine Seele
X-IMAGE:http://www.region-coburg.tv/images/medium/herz-seele-vh-72485c50.jp
 g
END:VEVENT
END:VCALENDAR
