BEGIN:VCALENDAR
METHOD:PUBLISH
PRODID:-//4146@www.region-coburg.tv//NONSGML iCalcreator 2.4.3//
VERSION:2.0
BEGIN:VEVENT
UID:4146-20171217140000-20171217000000@www.region-coburg.tv
DTSTAMP:20260423T223135Z
CONTACT:09561 / 898989
CREATED:20171028T173700Z
DESCRIPTION:UrauffÃ¼hrungWeihnachtsmÃ¤rchen fÃ¼r die ganze Familie in einer
  Bearbeitung von Philipp LÃ¶hle nach dem Roman von Charles Dickens\, empfo
 hlen ab 5 JahrenDagobert Duck hat ihn gespielt\, Michael Caine hat ihn in 
 der Muppet-Version gespielt und Bill Murray hat ihn natÃ¼rlich auch gespie
 lt: Die Rede ist von Ebenezer Scrooge\, dem geizigen reichen alten Mann\,Â
  dem erst die Geister der Weihnacht in Sachen Barmherzigkeit auf die SprÃ¼
 nge helfen kÃ¶nnen. Charles Dickens schrieb die Originalgeschichte\, die s
 eitdem vor allem auf der Leinwand fÃ¼r Furore sorgte.FÃ¼r das Coburger Wei
 hnachtsmÃ¤rchen sorgt der deutsche Dramatiker Philipp LÃ¶hle\, der Dickens
 Ê¼ Klassiker fÃ¼r die BÃ¼hne neu bearbeitet und sein StÃ¼ck am Landestheat
 er zur UrauffÃ¼hrung bringen lÃ¤sst. Nun also ist ganz Coburg gespannt\, w
 ie die drei Geister der Weihnacht wieder erscheinen werden und wie Ebeneze
 r Scrooge auf der TheaterbÃ¼hne zur RÃ¤son gebracht werden kann.VideoLande
 stheater Coburg\, Premiere am 19. November 2017 - Tickets: 09561 / 898989
DTEND:20171217T000000
DTSTART:20171217T140000
LAST-MODIFIED:20171028T173700Z
LOCATION:Landestheater Coburg\, GroÃŸes Haus
SUMMARY:Eine Weihnachtsgeschichte
X-IMAGE:http://www.region-coburg.tv/images/medium/weihnachtsgeschichte-vh-2
 4135510.jpg
END:VEVENT
END:VCALENDAR
