BEGIN:VCALENDAR
METHOD:PUBLISH
PRODID:-//4145@www.region-coburg.tv//NONSGML iCalcreator 2.4.3//
VERSION:2.0
BEGIN:VEVENT
UID:4145-20171112110000-20171112000000@www.region-coburg.tv
DTSTAMP:20260422T122703Z
CONTACT:Eintritt frei!
CREATED:20171028T172800Z
DESCRIPTION:Eine Weihnachtsgeschichte | UraufführungWeihnachtsmärchen fü
 r die ganze Familie in einer Bearbeitung von Philipp Löhle nach dem Roman
  von Charles Dickens\, empfohlen ab 5 JahrenLandestheater Coburg\, Matiné
 e zur Premiere am 19. November 2017 - Tickets: Eintritt frei!
DTEND:20171112T000000
DTSTART:20171112T110000
LAST-MODIFIED:20171028T172800Z
LOCATION:Landestheater Coburg\, Reithalle
SUMMARY:Matinée
X-IMAGE:http://www.region-coburg.tv/images/medium/ltc-7b7cb14f.jpg
END:VEVENT
END:VCALENDAR
