BEGIN:VCALENDAR
METHOD:PUBLISH
PRODID:-//4143@www.region-coburg.tv//NONSGML iCalcreator 2.4.3//
VERSION:2.0
BEGIN:VEVENT
UID:4143-20180118100000-20180118000000@www.region-coburg.tv
DTSTAMP:20260423T085242Z
CONTACT:09561 / 898989
CREATED:20171028T172200Z
DESCRIPTION:Schauspiel nach dem gleichnamigen Film von Hans Weingartner Vo
 m Hausbesetzer zum bejubelten Regisseur der Filmfestspiele in Cannes: Hans
  Weingartner ist diesen Weg gegangen. 2004 wurde sein Film „Die fetten J
 ahre sind vorbei' gefeiert. Die Story: Jan und Peter drücken ihren Widers
 tand gegen die sozialen Ungerechtigkeiten durch nächtliche Einbrüche in 
 die Villen der Superreichen aus. Dort stapeln sie Möbel zu Kunstwerken un
 d hinterlassen an die Wände geschmierte Botschaften.VideoLandestheater Co
 burg\, Premiere am 10. November 2017 - Tickets: 09561 / 898989
DTEND:20180118T000000
DTSTART:20180118T100000
LAST-MODIFIED:20171028T172200Z
LOCATION:Theater in der Reithalle
SUMMARY:Die fetten Jahre sind vorbei
X-IMAGE:http://www.region-coburg.tv/images/medium/fette-jahre-vh-b6f306fc.j
 pg
END:VEVENT
END:VCALENDAR
