BEGIN:VCALENDAR
METHOD:PUBLISH
PRODID:-//4133@www.region-coburg.tv//NONSGML iCalcreator 2.4.3//
VERSION:2.0
BEGIN:VEVENT
UID:4133-20171019193000-20171019000000@www.region-coburg.tv
DTSTAMP:20260422T085939Z
CONTACT:09561 / 234931
CREATED:20171010T202900Z
DESCRIPTION:Musikalisches SchauspielEin musikalisch-literarischer Abend fin
 det am Donnerstag\, den 19. Oktober in der Pfarrkirche St. Augustin statt.
  „Susanna – ich bin ein Kontinent“ beruht auf der Erzählung „Susa
 nna“ von Gertrud Kolmar\, die sie 1940 im Zeichen des Nazi-Terrors gesch
 rieben hat. Die renommierte Schauspielerin Martina Roth und der Gitarrist 
 Johannes Conen haben das „Bewegtbildtheater“ erfunden\, eine hoch komp
 lexe Bühnen-Präsentationsform. - Tickets: 09561 / 234931
DTEND:20171019T000000
DTSTART:20171019T193000
LAST-MODIFIED:20171010T202900Z
LOCATION:Coburg\, Kirche St. Augustin
SUMMARY:Susanna - ich bin ein Kontinent
X-IMAGE:http://www.region-coburg.tv/images/medium/kontinent-vh-7f74bb85.jpg
END:VEVENT
END:VCALENDAR
