BEGIN:VCALENDAR
METHOD:PUBLISH
PRODID:-//4128@www.region-coburg.tv//NONSGML iCalcreator 2.4.3//
VERSION:2.0
BEGIN:VEVENT
UID:4128-20171007000000-20171007000000@www.region-coburg.tv
DTSTAMP:20260421T021812Z
CONTACT: 09561 / 892030
CREATED:20171002T194800Z
DESCRIPTION:Swinging Coburg: '5. Coburger Jazznacht'Jazz-Ikonen\, wie sie s
 onst nur in angesagten GroÃŸstadt-Clubs zu erleben sind\, prÃ¤sentiert die
  â€ž5. Coburger Jazznachtâ€œ. Podium fÃ¼r den Stargast\, den finnischen Ja
 zz-Pianisten Iiro Rantala ist der Rathaussaal. Mit dabei hat er sein Album
  â€žMy Working Class Heroâ€œ\, auf dem er Welthits von John Lennon verjazz
 t.BÃ©atrice Kahl kommt mit ihrem Quartett â€žBÃ©atrice Kahl + b. groovyâ€œ
  in die Location â€žLeise am Marktâ€œ. Interpretiert werden neue Arrangeme
 nts bekannter Pop-Hits in jazzig-souligem Klang.Izabela Effenberg beherrsc
 ht nicht nur das Vibraphon\, sie spielt auch â€žArray Mbiraâ€œ â€“ ein auÃ
 ŸergewÃ¶hnliches Instrument\, das wie eine Kombination aus Harfe und Glock
 en klingt. Zusammen mit der Saxophonistin Stephanie Lottermoser begeistert
  sie im â€žMÃ¼nchner HofbrÃ¤uâ€œ Jazz-Liebhaber. - Tickets:  09561 / 89203
 0
DTEND;VALUE=DATE:20171008
DTSTART;VALUE=DATE:20171007
LAST-MODIFIED:20171002T194800Z
LOCATION:Coburg\, Innenstadt
SUMMARY:5. Coburger Jazznacht
X-IMAGE:http://www.region-coburg.tv/images/medium/jazzband-2478e1ee.jpg
END:VEVENT
END:VCALENDAR
