BEGIN:VCALENDAR
METHOD:PUBLISH
PRODID:-//4127@www.region-coburg.tv//NONSGML iCalcreator 2.4.3//
VERSION:2.0
BEGIN:VEVENT
UID:4127-20170927190000-20170927000000@www.region-coburg.tv
DTSTAMP:20260421T002403Z
CONTACT:09561 / 1304
CREATED:20170918T200400Z
DESCRIPTION:'Der Jade-Sauropsid'Auch der frÃ¤nkische â€žKrimi-Papstâ€œ Helm
 ut Vorndran hat einen neuen Thriller auf Lager. In â€žDer Jade-Sauropsidâ€
 œ wird im schÃ¶nen Frankenland diesmal erbarmungslos in Hotelzimmern gemor
 det. Der Autor stellt seinen brandneuen Krimi am Dienstag\, den 26. Septem
 ber im Bad Rodacher Jagdschloss und am Tag darauf in der â€žAlten SchÃ¤fer
 eiâ€œ in Ahorn vor. - Tickets: 09561 / 1304
DTEND:20170927T000000
DTSTART:20170927T190000
LAST-MODIFIED:20170918T200400Z
LOCATION:Ahorn\, Alte SchÃ¤ferei
SUMMARY:Lesung mit Helmut Vorndran
X-IMAGE:http://www.region-coburg.tv/images/medium/vorndran-vh-2a47f321.jpg
END:VEVENT
END:VCALENDAR
