BEGIN:VCALENDAR
METHOD:PUBLISH
PRODID:-//4125@www.region-coburg.tv//NONSGML iCalcreator 2.4.3//
VERSION:2.0
BEGIN:VEVENT
UID:4125-20170926190000-20170926000000@www.region-coburg.tv
DTSTAMP:20260421T002451Z
CONTACT: 09561 / 891420
CREATED:20170918T195500Z
DESCRIPTION:'Wieso Heimat\, ich wohne zur Miete'Ein in Deutschland lebender
  TÃ¼rke zieht vorÃ¼bergehend nach Istanbul. Ein halbes Jahr spÃ¤ter weiÃŸ 
 er Ã¼ber seine Wurzeln zwar immer noch nicht mehr\, dafÃ¼r aber eine ganze
  Menge Ã¼ber die TÃ¼rken und die Deutschen\, Erdogan und den Gezi-Park\, Ã
 ¼ber Moscheen und Gebets-Apps. â€žWieso Heimat\, ich wohne zur Mieteâ€œ is
 t ein ebenso kluger wie komischer Roman\, der Vorurteile entlarvt und Klis
 chees bloÃŸlegt. Der KÃ¶lner Autor Selim Ã–zdogan\, Sohn tÃ¼rkischer Elter
 n\, liest aus seinem Roman am Dienstag\, den 26. September in der Coburger
  StadtbÃ¼cherei. - Tickets:  09561 / 891420
DTEND:20170926T000000
DTSTART:20170926T190000
LAST-MODIFIED:20170918T195500Z
LOCATION:Coburg\, StadtbÃ¼cherei
SUMMARY:Lesung mit Selim Ã–zdogan
X-IMAGE:http://www.region-coburg.tv/images/medium/oezdogan-vh-35952208.jpg
END:VEVENT
END:VCALENDAR
