BEGIN:VCALENDAR
METHOD:PUBLISH
PRODID:-//4119@www.region-coburg.tv//NONSGML iCalcreator 2.4.3//
VERSION:2.0
BEGIN:VEVENT
UID:4119-20171101201500-20171101000000@www.region-coburg.tv
DTSTAMP:20260421T021854Z
CONTACT:09561 / 239051
CREATED:20170912T182000Z
DESCRIPTION:Das Oskar-prÃ¤mierte Drama kreist um FriedensnobelpreistrÃ¤ger 
 Martin Luther King und die legendÃ¤ren â€žSelma-nach-Montgomery-MÃ¤rscheâ€
 œ des Jahres 1965: Im StÃ¤dtchen Selma in Alabama engagiert sich das Stude
 nt Nonviolent Coordinating Committee fÃ¼r die Wahlrechte von Schwarzen â€“
  wird aber gerade durch die Ã¶rtliche Polizei deswegen angefeindet. Als be
 i einer Versammlung ein junger schwarzer Demonstrant erschossen wird\, beg
 innen ProtestmÃ¤rsche in die Staatshauptstadt Montgomery\; den zweiten Mar
 sch organisiert bereits der berÃ¼hmte Martin Luther Kingâ€¦VHS-Film der Wo
 che | USA\, Vereinigtes KÃ¶nigreich 2014 - Tickets: 09561 / 239051
DTEND:20171101T000000
DTSTART:20171101T201500
LAST-MODIFIED:20170912T182000Z
LOCATION:Coburg\, Kino Utopolis
SUMMARY:Selma
X-IMAGE:http://www.region-coburg.tv/images/medium/vhs-film-1276db0f.jpg
END:VEVENT
END:VCALENDAR
