BEGIN:VCALENDAR
METHOD:PUBLISH
PRODID:-//4118@www.region-coburg.tv//NONSGML iCalcreator 2.4.3//
VERSION:2.0
BEGIN:VEVENT
UID:4118-20171025201500-20171025000000@www.region-coburg.tv
DTSTAMP:20260421T021931Z
CONTACT:09561 / 239051
CREATED:20170912T181900Z
DESCRIPTION:Die einstmals erfolgreiche Chanson-SÃ¤ngerin Liliane Cheverny -
  mit dem KÃ¼nstlernamen â€žLaureâ€œ - jobbt inzwischen resigniert am FlieÃ
 Ÿband einer Fabrik\; erst die Bekanntschaft mit dem optimistischen Jean br
 ingt wieder Schwung in ihr erstarrtes Leben: Der junge Boxer motiviert die
  KÃ¼nstlerin dazu\, an ihr Talent zu glauben\, wieder aufzutreten und sich
  schlieÃŸlich fÃ¼r den Eurovision Songcontest zu bewerben. Allerdings gehÃ
 ¶rt zur Jury ausgerechnet â€žLauresâ€œ Ex-Freund Tony Jones\, der die SÃ¤n
 gerin vor Jahren allein gelassen hatte â€¦VHS-Film der Woche | Belgien\, F
 rankreich\, Luxemburg 2016 - Tickets: 09561 / 239051
DTEND:20171025T000000
DTSTART:20171025T201500
LAST-MODIFIED:20170912T181900Z
LOCATION:Coburg\, Kino Utopolis
SUMMARY:Ein Chanson fÃ¼r Dich
X-IMAGE:http://www.region-coburg.tv/images/medium/vhs-film-1276db0f.jpg
END:VEVENT
END:VCALENDAR
