BEGIN:VCALENDAR
METHOD:PUBLISH
PRODID:-//4117@www.region-coburg.tv//NONSGML iCalcreator 2.4.3//
VERSION:2.0
BEGIN:VEVENT
UID:4117-20171018201500-20171018000000@www.region-coburg.tv
DTSTAMP:20260421T022034Z
CONTACT:09561 / 239051
CREATED:20170912T181800Z
DESCRIPTION:Die Handlung dieses Thrillers stützt sich auf den Roman „Ang
 erichtet“ des Niederländers Herman Koch. Während eines scheinbar unsch
 uldigen Familiendinners kochen Wünsche\, Kränkungen\, Schuld und Sehnsü
 chte an die Oberfläche: Politiker Stan und sein Bruder Paul kommen nur sc
 hlecht miteinander aus\; trotzdem speisen sie mit ihren Ehefrauen Katelyn 
 und Claire\, sowie ihren Kindern in einem vornehmen Speiselokal. Doch ein 
 erschütterndes Geständnis treibt die ohnehin getrübte Stimmung zu drama
 tischer Eskalation …VHS-Film der Woche | USA 2017 - Tickets: 09561 / 239
 051
DTEND:20171018T000000
DTSTART:20171018T201500
LAST-MODIFIED:20170912T181800Z
LOCATION:Coburg\, Kino Utopolis
SUMMARY:The Dinner
X-IMAGE:http://www.region-coburg.tv/images/medium/vhs-film-1276db0f.jpg
END:VEVENT
END:VCALENDAR
