BEGIN:VCALENDAR
METHOD:PUBLISH
PRODID:-//4116@www.region-coburg.tv//NONSGML iCalcreator 2.4.3//
VERSION:2.0
BEGIN:VEVENT
UID:4116-20171003201500-20171003000000@www.region-coburg.tv
DTSTAMP:20260421T022048Z
CONTACT:09561 / 239051
CREATED:20170912T181600Z
DESCRIPTION:Für den Alt-Stalinisten Wilhelm Powileit - Hauptfigur des Film
 s - bildet die morbide DDR-Diktatur ein Stück ideologischer Heimat. Auch 
 die Krise des Sozialismus im Jahr 1989 kann sein utopisches Weltbild zunä
 chst nicht ernsthaft erschüttern. So feiert er unverdrossen seinen 90. Ge
 burtstag\, ungeachtet des bröckelnden SED-Regimes. Doch Wilhelms konstrui
 erte Scheinwelt soll ausgerechnet an seiner großen Feier einen besonders 
 schmerzhaften Riss erleiden …VHS-Film der Woche | Deutschland 2017 - Tic
 kets: 09561 / 239051
DTEND:20171003T000000
DTSTART:20171003T201500
LAST-MODIFIED:20170912T181600Z
LOCATION:Coburg\, Kino Utopolis
SUMMARY:In Zeiten des abnehmenden Lichts
X-IMAGE:http://www.region-coburg.tv/images/medium/vhs-film-1276db0f.jpg
END:VEVENT
END:VCALENDAR
