BEGIN:VCALENDAR
METHOD:PUBLISH
PRODID:-//4115@www.region-coburg.tv//NONSGML iCalcreator 2.4.3//
VERSION:2.0
BEGIN:VEVENT
UID:4115-20171010201500-20171010000000@www.region-coburg.tv
DTSTAMP:20260421T021926Z
CONTACT:09561 / 239051
CREATED:20170912T181200Z
DESCRIPTION:Hebamme Claire begreift ihren Job als wahre Berufung\; deshalb 
 hadert sie mit der Schließung ihrer bisherigen Arbeitsstelle – einer he
 imeligen Entbindungsstation ganz nach ihrem Herzen. Doch neben die berufli
 chen Umwälzungen treten auch noch private Ärgernisse: Claires Sohn Simon
  scheitert an der Hochschule\, während ausgerechnet Beatrice - die Freund
 in von Claires totem Vater - dringend um eine Verabredung bittet …VHS-Fi
 lm der Woche | Frankreich 2017 - Tickets: 09561 / 239051
DTEND:20171010T000000
DTSTART:20171010T201500
LAST-MODIFIED:20170912T181200Z
LOCATION:Coburg\, Kino Utopolis
SUMMARY:Ein Kuss von Beatrice
X-IMAGE:http://www.region-coburg.tv/images/medium/vhs-film-1276db0f.jpg
END:VEVENT
END:VCALENDAR
