BEGIN:VCALENDAR
METHOD:PUBLISH
PRODID:-//4114@www.region-coburg.tv//NONSGML iCalcreator 2.4.3//
VERSION:2.0
BEGIN:VEVENT
UID:4114-20170926201500-20170926000000@www.region-coburg.tv
DTSTAMP:20260421T002409Z
CONTACT:09561 / 239051
CREATED:20170912T181000Z
DESCRIPTION:Über fünf Jahrzehnte regiert Louis XIV. sein Königreich Fran
 kreich – doch 1715 geht die Ära des legendären Monarchen unwiderruflic
 h zu Ende.Regisseur Albert Sera widmet sich der Abenddämmerung des Sonnen
 königs vor der prunkvollen Kulisse des gewaltigen Schlosses von Versaille
 s: Umschwirrt von den Angehörigen seines Hofstaates\, einer komplizierten
  Parallelwelt\, die der König einst selbst erschaffen hatte\, reißt der 
 Lebensfaden Louis XIV. ab.VHS-Film der Woche | Frankreich\, Portugal\, Spa
 nien 2016 - Tickets: 09561 / 239051
DTEND:20170926T000000
DTSTART:20170926T201500
LAST-MODIFIED:20170912T181000Z
LOCATION:Coburg\, Kino Utopolis
SUMMARY:Der Tod von Louis XIV.
X-IMAGE:http://www.region-coburg.tv/images/medium/vhs-film-1276db0f.jpg
END:VEVENT
END:VCALENDAR
