BEGIN:VCALENDAR
METHOD:PUBLISH
PRODID:-//4113@www.region-coburg.tv//NONSGML iCalcreator 2.4.3//
VERSION:2.0
BEGIN:VEVENT
UID:4113-20170920201500-20170920000000@www.region-coburg.tv
DTSTAMP:20260421T001725Z
CONTACT:09561 / 239051
CREATED:20170912T180700Z
DESCRIPTION:Die Suche eines Jugendlichen nach der eigenen Rolle\; diese Her
 ausforderung wählt Mike Mills als beherrschendes Thema seines Regiewerkes
 : Der junge Kalifornier Jamie bereitet seiner Mutter ernsthafte Erziehungs
 -Sorgen – weshalb sie sich der Hilfe von Julie und Abbie versichert\, zw
 eier sehr verschiedener Frauen mit ganz unterschiedlichen Lebenskonzepten.
  Diese kaum koordinierte Lebenshilfe seiner drei Beraterinnen scheint Jami
 e zunächst allerdings eher zu verwirren ...VHS-Film der Woche | USA 2016 
 - Tickets: 09561 / 239051
DTEND:20170920T000000
DTSTART:20170920T201500
LAST-MODIFIED:20170912T180700Z
LOCATION:Coburg\, Kino Utopolis
SUMMARY:Jahrhundertfrauen
X-IMAGE:http://www.region-coburg.tv/images/medium/vhs-film-1276db0f.jpg
END:VEVENT
END:VCALENDAR
