BEGIN:VCALENDAR
METHOD:PUBLISH
PRODID:-//4112@www.region-coburg.tv//NONSGML iCalcreator 2.4.3//
VERSION:2.0
BEGIN:VEVENT
UID:4112-20170912201500-20170912000000@www.region-coburg.tv
DTSTAMP:20260421T002305Z
CONTACT:09561 / 239051
CREATED:20170912T180200Z
DESCRIPTION:DokumentarfilmDrei Jahre lang reisen Gwendolin Weisser und Patr
 ick Algaier ostwärts rund um den Erdball: Sie nutzen dazu alle möglichen
  Fortbewegungsmittel – ihre eigenen Füße\, Autostop oder einen wackere
 n VW-Bus. Nur das Flugzeug kommt für die Weltreisenden nicht in Frage\, d
 ie auf ihrem Weg zahllose Menschen kennen und achten lernen. Während dies
 es großen Abenteuers erblickt schließlich auch der Sohn des Paares\, Bru
 no\, das Licht der Erde ...VHS-Film der Woche | Deutschland 2017 - Tickets
 : 09561 / 239051
DTEND:20170912T000000
DTSTART:20170912T201500
LAST-MODIFIED:20170912T180200Z
LOCATION:Coburg\, Kino Utopolis
SUMMARY:Weit. Die Geschichte von einem Weg um die Welt
X-IMAGE:http://www.region-coburg.tv/images/medium/vhs-film-1276db0f.jpg
END:VEVENT
END:VCALENDAR
