BEGIN:VCALENDAR
METHOD:PUBLISH
PRODID:-//4110@www.region-coburg.tv//NONSGML iCalcreator 2.4.3//
VERSION:2.0
BEGIN:VEVENT
UID:4110-20180119193000-20180119000000@www.region-coburg.tv
DTSTAMP:20260423T084329Z
CONTACT:09561 / 898989
CREATED:20170826T180300Z
DESCRIPTION:AfterdarkBallett von Mark McClain nach einem Roman von Haruki M
 urakami | Musik vom TonbandCoburgs Ballettdirektor und Viel-Leser Mark McC
 lain hat sich als Grundlage für seinen nächsten Ballettabend den Roman 
 „Afterdark' des japanischen Schriftstellers ausgewählt. Und damit setz
 t er auf einen der tänzerisch interessanten Autoren der Gegenwart. Nicht
  nur\, dass „Afterdark' auf einen leicht groovenden Jazz-Titel der spä
 ten 1950er-Jahre zurückgeht. So wie in Curtis Fullers B-Moll-Bebop die In
 strumente\, tanzen auch Marukamis japanische Nachtgestalten um uns herum
 . Da sind das junge Mädchen und der Musiker\, die Geschäftsführerin de
 s Love-Hotels\, die misshandelte chinesische Prostituierte und der Büroa
 ngestellten.VideoLandestheater Coburg\, Premiere am 28. Oktober 2017 - Tic
 kets: 09561 / 898989
DTEND:20180119T000000
DTSTART:20180119T193000
LAST-MODIFIED:20170826T180300Z
LOCATION:Landestheater Coburg\, Großes Haus
SUMMARY:Afterdark
X-IMAGE:http://www.region-coburg.tv/images/medium/afterdark-vh-fa749e01.jpg
END:VEVENT
END:VCALENDAR
