BEGIN:VCALENDAR
METHOD:PUBLISH
PRODID:-//4109@www.region-coburg.tv//NONSGML iCalcreator 2.4.3//
VERSION:2.0
BEGIN:VEVENT
UID:4109-20171017190000-20171017000000@www.region-coburg.tv
DTSTAMP:20260422T091228Z
CONTACT:Eintritt frei
CREATED:20170826T180100Z
DESCRIPTION:AfterdarkBallett von Mark McClain nach einem Roman von Haruki M
 urakamiMusik vom TonbandLandestheater Coburg\, Premiere am 28. Oktober 201
 7 - Tickets: Eintritt frei
DTEND:20171017T000000
DTSTART:20171017T190000
LAST-MODIFIED:20170826T180100Z
LOCATION:Landestheater\, Großes Haus
SUMMARY:Soiree
X-IMAGE:http://www.region-coburg.tv/images/medium/ltc-7b7cb14f.jpg
END:VEVENT
END:VCALENDAR
