BEGIN:VCALENDAR
METHOD:PUBLISH
PRODID:-//4107@www.region-coburg.tv//NONSGML iCalcreator 2.4.3//
VERSION:2.0
BEGIN:VEVENT
UID:4107-20171008200000-20171008000000@www.region-coburg.tv
DTSTAMP:20260422T072620Z
CONTACT:09561 / 898989
CREATED:20170826T174500Z
DESCRIPTION:Eine Boulevard-KomÃ¶die von Oliver Bukowski (Originaltitel â€žB
 is Denverâ€œ)\; aus dem Niederlausitzschen ins OberfrÃ¤nkische Ã¼bertragen
  von Peter SchanzDer schwarze Humor kommt aus England? Kaum zu glauben. Ha
 t ihn Prinz Albert nicht vielleicht aus dem OberfrÃ¤nkischen ins Empire im
 portiert? Das kÃ¶nnte man meinen\, wenn Oliver Bukowskis neueÂ KomÃ¶die â€
 žerklingt'.â€žGood Bayreuth' holt die schwarze KomÃ¶die aus dem AngelsÃ¤ch
 sischen zurÃ¼ck ins liebliche Franken â€“ und Stephan Mertl und Thomas Str
 aus haben zwei neue Paraderollen. Wedd'n?VideoLandestheater Coburg\, Premi
 ere am 7. Oktober 2017 - Tickets: 09561 / 898989
DTEND:20171008T000000
DTSTART:20171008T200000
LAST-MODIFIED:20170826T174500Z
LOCATION:Theater in der Reithalle
SUMMARY:Good Bayreuth
X-IMAGE:http://www.region-coburg.tv/images/medium/bayreuth-vh-e3e666e6.jpg
END:VEVENT
END:VCALENDAR
