BEGIN:VCALENDAR
METHOD:PUBLISH
PRODID:-//4105@www.region-coburg.tv//NONSGML iCalcreator 2.4.3//
VERSION:2.0
BEGIN:VEVENT
UID:4105-20171004190000-20171004000000@www.region-coburg.tv
DTSTAMP:20260422T055104Z
CONTACT:Eintritt frei!
CREATED:20170826T172400Z
DESCRIPTION:A Spider Murphy Story | UraufführungEin Rock-’n’-Roll-Musi
 cal mit den Songs der Spider Murphy Gang von Matthias Straub und Rüdiger 
 EisenhauerLandestheater Coburg\, Premiere am 14. Oktober 2017 - Tickets: E
 intritt frei!
DTEND:20171004T000000
DTSTART:20171004T190000
LAST-MODIFIED:20170826T172400Z
LOCATION:Landestheater\, Großes Haus
SUMMARY:Soiree
X-IMAGE:http://www.region-coburg.tv/images/medium/ltc-7b7cb14f.jpg
END:VEVENT
END:VCALENDAR
