BEGIN:VCALENDAR
METHOD:PUBLISH
PRODID:-//4103@www.region-coburg.tv//NONSGML iCalcreator 2.4.3//
VERSION:2.0
BEGIN:VEVENT
UID:4103-20171027210000-20171027000000@www.region-coburg.tv
DTSTAMP:20260422T105444Z
CONTACT:09561 / 898989
CREATED:20170826T171600Z
DESCRIPTION:Bühne frei für alles Schräge und Spontane: Auch in dieser Sp
 ielzeit dürfen sich die Ensemblemitglieder auf der Freistaat-Bühne austo
 ben und all das ausprobieren\, worauf sie schon immer Lust hatten. Man dar
 f gespannt sein\, was sich das Schauspielensemble zum Auftakt einer neuen 
 Freistaat-Spielzeit ausdenkt – und ob das Musiktheaterensemble\, das ein
 en Monat später nachlegt\, die Kollegen der Drama-Fraktion toppen kann. -
  Tickets: 09561 / 898989
DTEND:20171027T000000
DTSTART:20171027T210000
LAST-MODIFIED:20170826T171600Z
LOCATION:Coburg\, Theater in der Reithalle
SUMMARY:Freistaat Coburg
X-IMAGE:http://www.region-coburg.tv/images/medium/logo-ltc-freistaat-947966
 f2.jpg
END:VEVENT
END:VCALENDAR
