BEGIN:VCALENDAR
METHOD:PUBLISH
PRODID:-//4101@www.region-coburg.tv//NONSGML iCalcreator 2.4.3//
VERSION:2.0
BEGIN:VEVENT
UID:4101-20180114193000-20180114000000@www.region-coburg.tv
DTSTAMP:20260423T070551Z
CONTACT:09561 / 898989
CREATED:20170826T122600Z
DESCRIPTION:Oper von Giacomo PucciniIn italienischer Sprache mit deutschen 
 ÜbertitelnDieser Opernkrimi hat es in sich. Im Untergrund eines repressiv
 en Systems verbünden sich Künstler mit Freiheitskämpfern. Ein lüsterne
 r Baron treibt sein perfides Spiel mit wehrlosen Geiseln und das Schicksal
  schlägt in dem Moment brutal zu\, als ein glückliches Ende zum Greifen 
 nahe scheint. Giacomo Puccini schuf mit seiner Oper „Tosca' die wohl spa
 nnendste und ergreifendste Geschichte dieses Musikgenres.VideoLandestheate
 r Coburg\, Premiere am 30. September 2017 - Tickets: 09561 / 898989
DTEND:20180114T000000
DTSTART:20180114T193000
LAST-MODIFIED:20170826T122600Z
LOCATION:Landestheater Coburg\, Großes Haus
SUMMARY:Tosca
X-IMAGE:http://www.region-coburg.tv/images/medium/tosca-vh-baf2b7bb.jpg
END:VEVENT
END:VCALENDAR
