BEGIN:VCALENDAR
METHOD:PUBLISH
PRODID:-//4100@www.region-coburg.tv//NONSGML iCalcreator 2.4.3//
VERSION:2.0
BEGIN:VEVENT
UID:4100-20170917110000-20170917000000@www.region-coburg.tv
DTSTAMP:20260422T055310Z
CONTACT:Eintritt frei!
CREATED:20170826T122200Z
DESCRIPTION:ToscaOper von Giacomo PucciniIn italienischer Sprache mit deuts
 chen ÜbertitelnLandestheater Coburg\, Matinée zur Premiere am 30. Septem
 ber 2017 - Tickets: Eintritt frei!
DTEND:20170917T000000
DTSTART:20170917T110000
LAST-MODIFIED:20170826T122200Z
LOCATION:Landestheater Coburg\, Reithalle
SUMMARY:Matinée
X-IMAGE:http://www.region-coburg.tv/images/medium/ltc-7b7cb14f.jpg
END:VEVENT
END:VCALENDAR
