BEGIN:VCALENDAR
METHOD:PUBLISH
PRODID:-//4071@www.region-coburg.tv//NONSGML iCalcreator 2.4.3//
VERSION:2.0
BEGIN:VEVENT
UID:4071-20170816193000-20170816000000@www.region-coburg.tv
DTSTAMP:20260422T040716Z
CONTACT:09564 / 4489
CREATED:20170724T181800Z
DESCRIPTION:Musical auf der WaldbühneTHE BLUES BROTHERS in: PRISON! biete 
 eine emotionale Show durch die Songs afroamerikanischer Legenden wie Otis 
 Redding\, Cab Calloway\, Ray Charles und Aretha Franklin\, alles im Groove
  der legendären BLUES BROTHERS BAND: „Feel good!'! - Tickets: 09564 / 4
 489
DTEND:20170816T000000
DTSTART:20170816T193000
LAST-MODIFIED:20170724T181800Z
LOCATION:Waldbühne Heldritt
SUMMARY:BLUES BROTHERS in: PRISON!
X-IMAGE:http://www.region-coburg.tv/images/medium/bluesbrothers-vh-fcc0c63e
 .jpg
END:VEVENT
END:VCALENDAR
