BEGIN:VCALENDAR
METHOD:PUBLISH
PRODID:-//4043@www.region-coburg.tv//NONSGML iCalcreator 2.4.3//
VERSION:2.0
BEGIN:VEVENT
UID:4043-20170624200000-00000000000000@www.region-coburg.tv
DTSTAMP:20260421T222911Z
CONTACT:09561 / 871424
CREATED:20170624T101400Z
DESCRIPTION:Wandelkonzert in Coburg„Bach von acht bis Mitternacht“ - ei
 n besonderes Ereignis ist die Coburger „Bachnacht“ am Samstag\, den 24
 . Juni. Sie findet unter der Leitung von KMD Peter Stenglein als „Wandel
 konzert“ sowohl in der Morizkirche als auch in der Aula des Gymnasiums C
 asimirianum statt. Die Kantorei St. Moriz\, Vokalsolisten und das Main-Bar
 ockorchester Frankfurt geben einen Einblick in die immense musikalische Vi
 elfalt des Komponisten Johann Sebastian Bach. Dabei stehen Kantaten für C
 hor\, Orchester- und Kammermusik sowie Orgel- und Klavierkompositionen auf
  dem Programm. - Tickets: 09561 / 871424
DTEND:20170624T210000
DTSTART:20170624T200000
LAST-MODIFIED:20170624T101400Z
LOCATION:Coburg\, Kirche St. Moriz
SUMMARY:Bach von acht bis Mitternacht
X-IMAGE:http://www.region-coburg.tv/images/medium/bachnacht-vh-395721e8.jpg
END:VEVENT
END:VCALENDAR
