BEGIN:VCALENDAR
METHOD:PUBLISH
PRODID:-//4041@www.region-coburg.tv//NONSGML iCalcreator 2.4.3//
VERSION:2.0
BEGIN:VEVENT
UID:4041-20170624193000-00000000000000@www.region-coburg.tv
DTSTAMP:20260421T210451Z
CONTACT:09561 / 898989
CREATED:20170624T095100Z
DESCRIPTION:Dramen-Trilogie von Friedrich Schiller an einem Schauspielabend
  | Ein Beitrag des Landestheaters Coburg zum LutherjahrVier Dramen verstec
 kt Schiller in seinem „Wallenstein'\, drei Teile des Verrats-Thrillers s
 owie die (natürlich) tragische Liebesgeschichte zwischen Thekla und Max\,
  den Kindern der Polit-Giganten. Und das fünfte Element\, die wunderbare 
 Sprache\, ist ein Grund für sich\, diesen Abend nicht zu verpassen.VideoL
 andestheater Coburg\, Premiere am 24. Juni 2017 - Tickets: 09561 / 898989
DTEND:20170624T203000
DTSTART:20170624T193000
LAST-MODIFIED:20170624T095100Z
LOCATION:Landestheater Coburg\, Großes Haus
SUMMARY:Wallenstein
X-IMAGE:http://www.region-coburg.tv/images/medium/wallenstein-vh-14b86c21.j
 pg
END:VEVENT
END:VCALENDAR
