BEGIN:VCALENDAR
METHOD:PUBLISH
PRODID:-//4040@www.region-coburg.tv//NONSGML iCalcreator 2.4.3//
VERSION:2.0
BEGIN:VEVENT
UID:4040-20170610200000-20170610000000@www.region-coburg.tv
DTSTAMP:20260421T223506Z
CONTACT:09561 / 6758059
CREATED:20170604T112700Z
DESCRIPTION:Gute Filme\, guter ZweckGute Filme schauen für einen guten Zwe
 ck – das ist am Freitag und Samstag\, den 09. und 10. Juni im stilvollen
  Ambiente des Innenhofes der Ehrenburg möglich. Organisiert vom Coburger 
 „Round Table“ startet das Sommer-Open-Air-Kino mit dem preisgekrönten
  Film „Pulp Fiction“ von Quentin Tarantino\, es folgt passend zu 500 J
 ahren Reformation: „Luther“. - Tickets: 09561 / 6758059
DTEND:20170610T000000
DTSTART:20170610T200000
LAST-MODIFIED:20170604T112700Z
LOCATION:Schloss Ehrenburg\, Innenhof
SUMMARY:Openair Kino
X-IMAGE:http://www.region-coburg.tv/images/medium/openairkino-vh-0b4bd943.j
 pg
END:VEVENT
END:VCALENDAR
