BEGIN:VCALENDAR
METHOD:PUBLISH
PRODID:-//4039@www.region-coburg.tv//NONSGML iCalcreator 2.4.3//
VERSION:2.0
BEGIN:VEVENT
UID:4039-20170618150000-20170618000000@www.region-coburg.tv
DTSTAMP:20260421T192409Z
CONTACT:09564 / 4489
CREATED:20170604T112000Z
DESCRIPTION:Lustspiel auf der Waldbühne„Die Kassen sind leer“ – nur 
 ein Eintrag in einen Reisekatalog kann das Kurhotel „Sonnenschein“ vor
  dem Aus bewahren. Doch das Personal hat gekündigt\, die Patienten fehlen
 . Also müssen Familie und Freunde ran\, um das Hotel am Laufen zu halten.
  Jeder übernimmt die Rolle\, in der er gerade gebraucht wird. Die Ärztin
  ist auch Elektriker\, der Masseur auch Hausdiener und Ober. Turbulente En
 twicklungen und Missverständnisse nicht ausgeschlossen! Premiere für die
  Komödie „Die Kassen sind leer“ von Wolfgang Bräutigam auf der Heldr
 itter Waldbühne ist Samstag\, der 03. Juni\, 14 weitere Aufführungen sin
 d geplant! - Tickets: 09564 / 4489
DTEND:20170618T000000
DTSTART:20170618T150000
LAST-MODIFIED:20170604T112000Z
LOCATION:Waldbühne Heldritt
SUMMARY:Die Kassen sind leer
X-IMAGE:http://www.region-coburg.tv/images/medium/theater-52f1c207.bmp
END:VEVENT
END:VCALENDAR
