BEGIN:VCALENDAR
METHOD:PUBLISH
PRODID:-//4036@www.region-coburg.tv//NONSGML iCalcreator 2.4.3//
VERSION:2.0
BEGIN:VEVENT
UID:4036-20170611110000-20170611000000@www.region-coburg.tv
DTSTAMP:20260421T174539Z
CONTACT:Eintritt frei!
CREATED:20170604T110800Z
DESCRIPTION:WallensteinDramen-Trilogie von Friedrich Schiller an einem Scha
 uspielabend | Ein Beitrag des Landestheaters Coburg zum LutherjahrLandesth
 eater Coburg\, Matinée zur Premiere am 24. Juni 2017 - Tickets: Eintritt 
 frei!
DTEND:20170611T000000
DTSTART:20170611T110000
LAST-MODIFIED:20170604T110800Z
LOCATION:Landestheater Coburg\, Reithalle
SUMMARY:Matinée
X-IMAGE:http://www.region-coburg.tv/images/medium/ltc-7b7cb14f.jpg
END:VEVENT
END:VCALENDAR
