BEGIN:VCALENDAR
METHOD:PUBLISH
PRODID:-//4035@www.region-coburg.tv//NONSGML iCalcreator 2.4.3//
VERSION:2.0
BEGIN:VEVENT
UID:4035-20170629110000-20170629000000@www.region-coburg.tv
DTSTAMP:20260422T223808Z
CONTACT:09561 / 898989
CREATED:20170604T105700Z
DESCRIPTION:Ballett von Takashi Yamamoto und Matthias Straub nach dem Roman
  von George Orwell„Big Brother is watching you!' Die klassische Überwac
 hungs-Drohung entstammt dem 1948 von George Orwell geschriebenen Roman „
 1984'. Seitdem ist das Zitat häufig verwendet worden\, selbstverständlic
 h während der Zeit des Kalten Krieges und ebenso selbstverständlich auch
  seit Ende des Kalten Krieges.Das Theater ist übrigens ein sicherer Ort\,
  um über solche Fragen nachzudenken. Oder warum glauben Sie\, dass wir Si
 e immer bitten\, vor einer Vorstellung das Smartphone auszuschalten?VideoL
 andestheater Coburg\, Premiere am 10. Juni 2017 - Tickets: 09561 / 898989
DTEND:20170629T000000
DTSTART:20170629T110000
LAST-MODIFIED:20170604T105700Z
LOCATION:Theater in der Reithalle
SUMMARY:1984
X-IMAGE:http://www.region-coburg.tv/images/medium/1984-vh-17490a87.jpg
END:VEVENT
END:VCALENDAR
