BEGIN:VCALENDAR
METHOD:PUBLISH
PRODID:-//4034@www.region-coburg.tv//NONSGML iCalcreator 2.4.3//
VERSION:2.0
BEGIN:VEVENT
UID:4034-20170611180000-20170611000000@www.region-coburg.tv
DTSTAMP:20260421T174914Z
CONTACT:09561 / 898989
CREATED:20170604T104500Z
DESCRIPTION:Komische Oper von Wolfgang Amadeus MozartIn italienischer Sprac
 he mit deutschen ÜbertitelnMozart und sein genialer Textdichter Lorenzo d
 a Ponte nahmen in ihrer Version der beliebten Komödie „Der tolle Tag' d
 as Tempo des gesellschaftlichen Wandels auf. Graf Almaviva\, scharf auf Ka
 mmerzofe Susanna\, wird von Figaro und Ehefrau an der Nase herumgeführt. 
 Erotische Würze liefern der junge Cherubino\, die blutjunge Barbarina\, u
 nd nicht wenige Kostümwechsel\, die genderpolitisch heute absolut unkorre
 kt und dadurch besonders unterhaltsam sind.VideoLandestheater Coburg\, Pre
 miere am 3. Juni 2017 - Tickets: 09561 / 898989
DTEND:20170611T000000
DTSTART:20170611T180000
LAST-MODIFIED:20170604T104500Z
LOCATION:Landestheater Coburg\, Großes Haus
SUMMARY:Die Hochzeit des Figaro
X-IMAGE:http://www.region-coburg.tv/images/medium/figaro-vh-e09aa7fa.jpg
END:VEVENT
END:VCALENDAR
