BEGIN:VCALENDAR
METHOD:PUBLISH
PRODID:-//4033@www.region-coburg.tv//NONSGML iCalcreator 2.4.3//
VERSION:2.0
BEGIN:VEVENT
UID:4033-20170602000000-20170606000000@www.region-coburg.tv
DTSTAMP:20260420T204412Z
CREATED:20170603T171100Z
DESCRIPTION:148. Pfingstkongress des Coburger ConventsDie Kranzniederlegung
 en am Ehrenmal der Stadt Coburg und anschließend am Ehrenmal des Coburger
  Convents im Hofgarten gehören sicher zu den Fixpunkten im Ritual des CC-
 Pfingstkongresses.Den Abschluss des Pfingstkongresses bildet das tradition
 elle Marktfest. Am Pfingstdienstag um 11 Uhr wird der Frühschoppen auf de
 m Coburger Marktfest vom Coburger Stadtoberhaupt eröffnet.
DTEND;VALUE=DATE:20170607
DTSTART;VALUE=DATE:20170602
LAST-MODIFIED:20170603T171100Z
LOCATION:Coburger Innenstadt
SUMMARY:Coburger Convent
X-IMAGE:http://www.region-coburg.tv/images/medium/convent-vh-6313d1bd.jpg
END:VEVENT
END:VCALENDAR
