BEGIN:VCALENDAR
METHOD:PUBLISH
PRODID:-//4031@www.region-coburg.tv//NONSGML iCalcreator 2.4.3//
VERSION:2.0
BEGIN:VEVENT
UID:4031-20170529190000-20170529000000@www.region-coburg.tv
DTSTAMP:20260420T204842Z
CONTACT: 09561 / 891420
CREATED:20170524T184400Z
DESCRIPTION:AutorengalaHier sind die Leseratten gefragt! Gleich drei fränk
 ische Autoren - Stephan Lössl aus Forchheim\, Henning Mützlitz aus Herzo
 genaurach und Werner Karl aus dem Landkreis Coburg lesen aus ihren aktuell
 en Werken. „Fantasy im Dreierpack“ bringt eine geballte Ladung Fantasy
 - und Mittelalter-Literatur in die Coburger Stadtbücherei. - Tickets:  09
 561 / 891420
DTEND:20170529T000000
DTSTART:20170529T190000
LAST-MODIFIED:20170524T184400Z
LOCATION:Coburg\, Stadtbücherei
SUMMARY:Fantasy im Dreierpack
X-IMAGE:http://www.region-coburg.tv/images/medium/lesung-vh-39ef8b90.jpg
END:VEVENT
END:VCALENDAR
