BEGIN:VCALENDAR
METHOD:PUBLISH
PRODID:-//4030@www.region-coburg.tv//NONSGML iCalcreator 2.4.3//
VERSION:2.0
BEGIN:VEVENT
UID:4030-20170528150000-20170528000000@www.region-coburg.tv
DTSTAMP:20260421T155643Z
CONTACT:09564 / 4489
CREATED:20170524T183800Z
DESCRIPTION:Heldritter Kabarettsommer: 'Jetzt Eicht's!'Am Sonntag\, den 28.
  Mai heiÃŸt es dann -Â  Start frei fÃ¼r den 1. Heldritter Kabarettsommer. 
 Den Startschuss gibt der entspannte Franke Stefan Eichner\, 'Das Eich'. â€
 žJetzt Eichtâ€™s!â€œ meint das kabarettistische ChamÃ¤leon und hÃ¤lt sich 
 und dem Volk in seiner unnachahmlichen Art wieder den Spiegel vor. - Ticke
 ts: 09564 / 4489
DTEND:20170528T000000
DTSTART:20170528T150000
LAST-MODIFIED:20170524T183800Z
LOCATION:WaldbÃ¼hne Heldritt
SUMMARY:Das Eich
X-IMAGE:http://www.region-coburg.tv/images/medium/eich-vh-b76dcb86.jpg
END:VEVENT
END:VCALENDAR
