BEGIN:VCALENDAR
METHOD:PUBLISH
PRODID:-//4029@www.region-coburg.tv//NONSGML iCalcreator 2.4.3//
VERSION:2.0
BEGIN:VEVENT
UID:4029-20170625150000-20170625000000@www.region-coburg.tv
DTSTAMP:20260421T210528Z
CONTACT:09564 / 4489
CREATED:20170524T183300Z
DESCRIPTION:Premiere in Heldritt am 27. Mai 2017Seit acht Jahren setzt Deli
 a Schneider die Heldritter Märchenaufführungen in Szene. Und die werden 
 von Jahr zu Jahr professioneller - vom Schauspiel über das Bühnenbild bi
 s hin zur Technik. So können sich kleine und große Fans auf das tapfere 
 Schneiderlein Jakob freuen\, das durch die Welt wandert\, um sein Glück z
 u finden. Die Premiere findet am Samstag\, den 27. Mai statt\, es folgen 1
 5 weitere Vorstellungen! - Tickets: 09564 / 4489
DTEND:20170625T000000
DTSTART:20170625T150000
LAST-MODIFIED:20170524T183300Z
LOCATION:Waldbühne Heldritt
SUMMARY:Das tapfere Schneiderlein
X-IMAGE:http://www.region-coburg.tv/images/medium/schneiderlein-vh-79632f33
 .jpg
END:VEVENT
END:VCALENDAR
