BEGIN:VCALENDAR
METHOD:PUBLISH
PRODID:-//4023@www.region-coburg.tv//NONSGML iCalcreator 2.4.3//
VERSION:2.0
BEGIN:VEVENT
UID:4023-20170513000000-20170513000000@www.region-coburg.tv
DTSTAMP:20260420T204907Z
CREATED:20170507T184000Z
DESCRIPTION:'Metamorphosen â€“ Verwandlungen'Das GerÃ¤temuseum â€žAlte SchÃ
 ¤fereiâ€œ\, das â€žDeutsches Spielzeugmuseum Sonnebergâ€œ\, das â€žFrieden
 smuseum Meederâ€œ oder das â€žEuropÃ¤isches Museum fÃ¼r Modernes Glasâ€œ i
 n RÃ¶dental - nicht weniger als 14 Museen und kulturelle Einrichtungen lad
 en am Samstag\, den 13. Mai zu einem nÃ¤chtlichen Kultur-Bummel ein. Die â
 €ž14. Regionale Museumsnachtâ€œ steht diesmal unter dem vielversprechenden
  Motto â€žMetamorphosen â€“ Verwandlungenâ€œ.Programminfo
DTEND;VALUE=DATE:20170514
DTSTART;VALUE=DATE:20170513
LAST-MODIFIED:20170507T184000Z
LOCATION:Diverse Veranstaltungsorte
SUMMARY:Regionale Museumsnacht
X-IMAGE:http://www.region-coburg.tv/images/medium/museumsnacht-vh-d054cd2b.
 jpg
END:VEVENT
END:VCALENDAR
