BEGIN:VCALENDAR
METHOD:PUBLISH
PRODID:-//4020@www.region-coburg.tv//NONSGML iCalcreator 2.4.3//
VERSION:2.0
BEGIN:VEVENT
UID:4020-20170521110000-20170521000000@www.region-coburg.tv
DTSTAMP:20260421T140847Z
CONTACT:Eintritt frei!
CREATED:20170507T113900Z
DESCRIPTION:The Raven / La voix humaineDeutsche Erstaufführung (The Raven)
 Die Hochzeit des FigaroKomische Oper von Wolfgang Amadeus Mozart In italie
 nischer Sprache mit deutschen ÜbertitelnLandestheater Coburg\, Matinée z
 ur Premiere am 3. Juni 2017 - Tickets: Eintritt frei!
DTEND:20170521T000000
DTSTART:20170521T110000
LAST-MODIFIED:20170507T113900Z
LOCATION:Landestheater Coburg\, Spiegelsaal
SUMMARY:Matinée
X-IMAGE:http://www.region-coburg.tv/images/medium/ltc-7b7cb14f.jpg
END:VEVENT
END:VCALENDAR
