BEGIN:VCALENDAR
METHOD:PUBLISH
PRODID:-//4019@www.region-coburg.tv//NONSGML iCalcreator 2.4.3//
VERSION:2.0
BEGIN:VEVENT
UID:4019-20170520193000-20170520000000@www.region-coburg.tv
DTSTAMP:20260421T141004Z
CONTACT:09561 / 898989
CREATED:20170507T113300Z
DESCRIPTION:Deutsche Erstaufführung (The Raven)Kammeroper von Toshio Hosok
 awa | Monooper von Francis Poulenc In englischer Sprache mit deutschen Üb
 ertitelnWas kommt uns merkwürdiger vor? Nur noch über das Telefon mit Mi
 tmenschen zu kommunizieren oder mit einem Tier zu sprechen? Der Opern-Dopp
 elabend „The Raven/La voix humaine' greift beide Merkwürdigkeiten auf u
 nd stellt die immerwährende Frage: Wer teilt unseren Schmerz\, und wie te
 ilen wir uns mit?VideoLandestheater Coburg\, Premiere am 13. Mai 2017 - Ti
 ckets: 09561 / 898989
DTEND:20170520T000000
DTSTART:20170520T193000
LAST-MODIFIED:20170507T113300Z
LOCATION:Landestheater Coburg\, Großes Haus
SUMMARY:The Raven / La voix humaine
X-IMAGE:http://www.region-coburg.tv/images/medium/voix-vh-d4075046.jpg
END:VEVENT
END:VCALENDAR
