BEGIN:VCALENDAR
METHOD:PUBLISH
PRODID:-//4018@www.region-coburg.tv//NONSGML iCalcreator 2.4.3//
VERSION:2.0
BEGIN:VEVENT
UID:4018-20170625180000-20170625000000@www.region-coburg.tv
DTSTAMP:20260422T224015Z
CONTACT:09561 / 898989
CREATED:20170507T111200Z
DESCRIPTION:Nach Tankred Dorst | Für Menschen ab 14 JahrenIm Jahr 2017 bes
 chäftigt sich die Landesausstellung „Ritter\, Bauern\, Lutheraner' mit 
 dem 16. Jahrhundert\, und dieses Bürgerprojekt „Parzival' reflektiert d
 ie Fragen\, die auch dort an die Geschichte gestellt werden. Das alles ist
  ein weiter Bogen\, und es kann sein\, dass sich die Beteiligten des Proje
 ktes auch ganz anders orientieren\, etwa an den modernen Spiegelungen des 
 Mythos durch Autoren\, wie denen des im thüringischen Oberlind geborenen 
 Tankred Dorst. Lassen wir uns überraschen ...VideoLandestheater Coburg\, 
 Premiere am 14. Mai 2017 - Tickets: 09561 / 898989
DTEND:20170625T000000
DTSTART:20170625T180000
LAST-MODIFIED:20170507T111200Z
LOCATION:Theater in der Reithalle
SUMMARY:Projekt Parzival
X-IMAGE:http://www.region-coburg.tv/images/medium/parzival-vh-54ac2778.jpg
END:VEVENT
END:VCALENDAR
