BEGIN:VCALENDAR
METHOD:PUBLISH
PRODID:-//4014@www.region-coburg.tv//NONSGML iCalcreator 2.4.3//
VERSION:2.0
BEGIN:VEVENT
UID:4014-20170513150000-20170513000000@www.region-coburg.tv
DTSTAMP:20260420T204406Z
CONTACT:09568 / 5227
CREATED:20170505T175900Z
DESCRIPTION:Musizierkreis Neustadt: 'Kaffeehausmusik“Sie ist mittlerweile
  schon zur festen Einrichtung im Neustadter Veranstaltungskalender geworde
 n – die „Kaffeehausmusik“ im Meilschnitzer Gasthof „Gunsenheimer. 
 Auch Samstag\, der 13. Mai verspricht bei Kaffee und Kuchen wieder ein bun
 t gemischtes und unterhaltsames Programm. Mai. Der musikalische Reigen fü
 hrt mit Paul Lincke\, Johann Strauß oder Emile Waldteufel von Berlin übe
 r Paris bis nach Ungarn. Es spielt das Orchester des Musizierkreises gehob
 ener Unterhaltungsmusik unter der Leitung von Norbert Luche. - Tickets: 09
 568 / 5227
DTEND:20170513T000000
DTSTART:20170513T150000
LAST-MODIFIED:20170505T175900Z
LOCATION:Landgasthof Gunsenheimer
SUMMARY:Kaffeehausmusik
X-IMAGE:http://www.region-coburg.tv/images/medium/kaffeehausmusik-aec0740d.
 jpg
END:VEVENT
END:VCALENDAR
