BEGIN:VCALENDAR
METHOD:PUBLISH
PRODID:-//4012@www.region-coburg.tv//NONSGML iCalcreator 2.4.3//
VERSION:2.0
BEGIN:VEVENT
UID:4012-20170508190000-20170508000000@www.region-coburg.tv
DTSTAMP:20260420T190144Z
CONTACT:Eintritt frei!
CREATED:20170505T174800Z
DESCRIPTION:Die „Coburger Schreibwerkstatt“ hat mit den Autorinnen Nico
 le Eick oder Heidi Fischer schon einige Schreibtalente auf den Erfolgsweg 
 geführt. Am Montag\, den 08. Mai sind Mitglieder der Schreibwerkstatt zu 
 Gast in der Stadtbücherei Neustadt. Die Lesung „Sprache ohne Grenzen“
  verspricht spannende und anrührende Kurzgeschichten sowie witzige und er
 nste Gedichte\, vorgestellt von den jeweiligen Autorinnen und Autoren. Der
  Eintritt dazu ist frei! - Tickets: Eintritt frei!
DTEND:20170508T000000
DTSTART:20170508T190000
LAST-MODIFIED:20170505T174800Z
LOCATION:Stadtbücherei Neustadt
SUMMARY:Coburger Schreibwerkstatt
X-IMAGE:http://www.region-coburg.tv/images/medium/schreiben-vh-53f7ec73.jpg
END:VEVENT
END:VCALENDAR
