BEGIN:VCALENDAR
METHOD:PUBLISH
PRODID:-//4011@www.region-coburg.tv//NONSGML iCalcreator 2.4.3//
VERSION:2.0
BEGIN:VEVENT
UID:4011-20170726201500-20170726000000@www.region-coburg.tv
DTSTAMP:20260421T002311Z
CONTACT:09561 / 239051
CREATED:20170503T165900Z
DESCRIPTION:Die italienische Gräfin Maria Beatrice Morandini Valdirana sto
 lpert gesellschaftlich über eine skandalöse Affäre mit einem Kriminelle
 n. Zur Sühne soll die Aristokratin eine Therapie in der Villa Biondi abso
 lvieren\, wo sie auch die Patientin Donatella kennenlernt. Trotz aller Unt
 erschiede bezüglich Herkunft und Charakter wagen die beiden Frauen schlie
 ßlich die gemeinsame Flucht in die vermeintlich normale Welt jenseits der
  Villa Biondi …VHS-Film der Woche | Frankreich\, Italien 2016 - Tickets:
  09561 / 239051
DTEND:20170726T000000
DTSTART:20170726T201500
LAST-MODIFIED:20170503T165900Z
LOCATION:Coburg\, Kino Utopolis
SUMMARY:Die Überglücklichen
X-IMAGE:http://www.region-coburg.tv/images/medium/vhs-film-1276db0f.jpg
END:VEVENT
END:VCALENDAR
