BEGIN:VCALENDAR
METHOD:PUBLISH
PRODID:-//4010@www.region-coburg.tv//NONSGML iCalcreator 2.4.3//
VERSION:2.0
BEGIN:VEVENT
UID:4010-20170718201500-20170718000000@www.region-coburg.tv
DTSTAMP:20260421T001821Z
CONTACT:09561 / 239051
CREATED:20170503T165800Z
DESCRIPTION:Lee Chandler arbeitet und lebt schon lange in Boston\; doch nac
 h dem plötzlichen Tod seines Bruders kehrt er nach Manchester zurück –
  seiner Heimatstadt an der US-amerikanischen Atlantikküste. Hier stellt e
 r sich gleich einer ganzen Kette von Herausforderungen\, wie der Verantwor
 tung für den minderjährigen Neffen Patrick oder seiner geschiedenen Frau
  Randi. Zwischen Erinnerungen und neuen Problemen macht sich Lee allmähli
 ch Gedanken über seinen künftigen Lebensweg …VHS-Film der Woche | USA 
 2016 - Tickets: 09561 / 239051
DTEND:20170718T000000
DTSTART:20170718T201500
LAST-MODIFIED:20170503T165800Z
LOCATION:Coburg\, Kino Utopolis
SUMMARY:Manchester by the Sea
X-IMAGE:http://www.region-coburg.tv/images/medium/vhs-film-1276db0f.jpg
END:VEVENT
END:VCALENDAR
