BEGIN:VCALENDAR
METHOD:PUBLISH
PRODID:-//4009@www.region-coburg.tv//NONSGML iCalcreator 2.4.3//
VERSION:2.0
BEGIN:VEVENT
UID:4009-20170712201500-20170712000000@www.region-coburg.tv
DTSTAMP:20260421T002023Z
CONTACT:09561 / 239051
CREATED:20170503T165600Z
DESCRIPTION:Das Drama erzählt die Vorgeschichte des späteren botswanische
 n Staatspräsidenten Seretse Khama: Während seines Studiums in Großbrita
 nnien lernt der traditionelle Herrscher der Bamangwato die Londonerin Ruth
  Williams kennen und lieben – eine Affäre\, die allerdings in beiden Ku
 lturkreisen als Affront empfunden wird. Bald muss das Paar vehement für d
 ie Zukunft seiner Beziehung kämpfen\, während sich im Hintergrund politi
 sche Wirren in Betschuanaland abzeichnen …VHS-Film der Woche | Frankreic
 h\, Großbritannien 2016 - Tickets: 09561 / 239051
DTEND:20170712T000000
DTSTART:20170712T201500
LAST-MODIFIED:20170503T165600Z
LOCATION:Coburg\, Kino Utopolis
SUMMARY:A United Kingdom
X-IMAGE:http://www.region-coburg.tv/images/medium/vhs-film-1276db0f.jpg
END:VEVENT
END:VCALENDAR
