BEGIN:VCALENDAR
METHOD:PUBLISH
PRODID:-//4008@www.region-coburg.tv//NONSGML iCalcreator 2.4.3//
VERSION:2.0
BEGIN:VEVENT
UID:4008-20170704201500-20170704000000@www.region-coburg.tv
DTSTAMP:20260421T223337Z
CONTACT:09561 / 239051
CREATED:20170503T165300Z
DESCRIPTION:Regisseur Wim Wenders inszeniert hier Peter Handkes Theaterstü
 ck „Die schönen Tage von Aranjuez“ für das Kino: Der Ausblick auf di
 e traumhafte Landschaft vor Paris bildet den Hintergrund der Terrassenszen
 e\, wo eine Frau mit einem Mann sehr lebhaft und geistreich plaudert. Glei
 chzeitig schreibt im Nachbarhaus ein Autor sehr eifrig auf der Schreibmasc
 hine - wobei der ursächliche Zusammenhang zwischen Gespräch und Schreibv
 organg allerdings unklar bleibt …VHS-Film der Woche | Deutschland\, Fran
 kreich\, Portugal 2016 - Tickets: 09561 / 239051
DTEND:20170704T000000
DTSTART:20170704T201500
LAST-MODIFIED:20170503T165300Z
LOCATION:Coburg\, Kino Utopolis
SUMMARY:Die schönen Tage von Aranjuez
X-IMAGE:http://www.region-coburg.tv/images/medium/vhs-film-1276db0f.jpg
END:VEVENT
END:VCALENDAR
