BEGIN:VCALENDAR
METHOD:PUBLISH
PRODID:-//4007@www.region-coburg.tv//NONSGML iCalcreator 2.4.3//
VERSION:2.0
BEGIN:VEVENT
UID:4007-20170628201500-20170628000000@www.region-coburg.tv
DTSTAMP:20260421T223105Z
CONTACT:09561 / 239051
CREATED:20170502T165700Z
DESCRIPTION:Jacqueline Lee Bouvier heiratete im Jahr 1953 den späteren US-
 Präsidenten John F. Kennedy und tauchte nach dessen Wahl das nüchterne W
 eiße Haus in eine einzigartige Aura aus schillernder Eleganz. Der Spielfi
 lm betrachtet im Rückblick wesentliche Passagen aus dem Leben der Präsid
 entengattin\; als Fokus wählt Regisseur Pablo Larraín dabei ein spektaku
 läres Interview mit dem Time Magazin - wenige Tage nach den tödlichen Sc
 hüssen auf John F. Kennedy in Dallas …VHS-Film der Woche | USA 2016 - T
 ickets: 09561 / 239051
DTEND:20170628T000000
DTSTART:20170628T201500
LAST-MODIFIED:20170502T165700Z
LOCATION:Coburg\, Kino Utopolis
SUMMARY:Jackie
X-IMAGE:http://www.region-coburg.tv/images/medium/vhs-film-1276db0f.jpg
END:VEVENT
END:VCALENDAR
