BEGIN:VCALENDAR
METHOD:PUBLISH
PRODID:-//4006@www.region-coburg.tv//NONSGML iCalcreator 2.4.3//
VERSION:2.0
BEGIN:VEVENT
UID:4006-20170621201500-20170621000000@www.region-coburg.tv
DTSTAMP:20260421T223213Z
CONTACT:09561 / 239051
CREATED:20170502T165500Z
DESCRIPTION:Totila Blumen ist Wissenschaftler und nimmt das Leben grundsÃ¤t
 zlich schwer\; seine negative Weltsicht wird noch zusÃ¤tzlich getrÃ¼bt dur
 ch Meinungsverschiedenen mit seiner Frau\, den Arbeitskollegen und schlieÃ
 Ÿlich Praktikantin Zazie\, die ein Techtelmechtel ausgerechnet mit seinem 
 Chef beginnt. Erst langsam gewinnt Totila Zutrauen zu Zazie â€“ zumal die 
 beiden ihre dÃ¼stere Familiengeschichte verbindet â€¦VHS-Film der Woche | 
 Deutschland\, Frankreich\, Ã–sterreich 2016 - Tickets: 09561 / 239051
DTEND:20170621T000000
DTSTART:20170621T201500
LAST-MODIFIED:20170502T165500Z
LOCATION:Coburg\, Kino Utopolis
SUMMARY:Die Blumen von gestern
X-IMAGE:http://www.region-coburg.tv/images/medium/vhs-film-1276db0f.jpg
END:VEVENT
END:VCALENDAR
