BEGIN:VCALENDAR
METHOD:PUBLISH
PRODID:-//4005@www.region-coburg.tv//NONSGML iCalcreator 2.4.3//
VERSION:2.0
BEGIN:VEVENT
UID:4005-20170613201500-20170613000000@www.region-coburg.tv
DTSTAMP:20260421T223046Z
CONTACT:09561 / 239051
CREATED:20170502T165300Z
DESCRIPTION:Die Literaturverfilmung basiert auf einem frühen Briefroman vo
 n Jane Austen: Die charismatische Lady Susan Vernon leidet unter dem Klats
 ch der englischen High Society\; daher flieht sie ins selbstgewählte Exil
 \, auf den idyllischen Landsitz wohlhabender Verwandter. Hier beginnt die 
 geistvolle Dame raffinierte Heiratspläne zu schmieden\, welche zunehmend 
 um den attraktiven Reginald DeCourcy kreisen. Durch den unvermittelten Bes
 uch ihrer lebhaften Tochter Frederica allerdings werden die Ambitionen Lad
 y Susans auf eine entscheidende Probe gestellt …VHS-Film der Woche | Fra
 nkreich\, Irland\, Niederlande 2016 - Tickets: 09561 / 239051
DTEND:20170613T000000
DTSTART:20170613T201500
LAST-MODIFIED:20170502T165300Z
LOCATION:Coburg\, Kino Utopolis
SUMMARY:Love & Friendship
X-IMAGE:http://www.region-coburg.tv/images/medium/vhs-film-1276db0f.jpg
END:VEVENT
END:VCALENDAR
