BEGIN:VCALENDAR
METHOD:PUBLISH
PRODID:-//4004@www.region-coburg.tv//NONSGML iCalcreator 2.4.3//
VERSION:2.0
BEGIN:VEVENT
UID:4004-20170607201500-20170607000000@www.region-coburg.tv
DTSTAMP:20260420T204244Z
CONTACT:09561 / 239051
CREATED:20170502T164800Z
DESCRIPTION:Madame Christine und ihre unerwarteten GÃ¤steDie vornehme Paris
 erin Christine Dubreuil genieÃŸt ihr behagliches Leben in der franzÃ¶sisch
 en Hauptstadt - allerdings leidet sie unter der negativen Weltsicht ihres 
 grÃ¤melnden Ehemannes Pierre. Doch ihre leicht angestaubten Routinen werde
 n Ã¼berraschend in Frage gestellt\, als die franzÃ¶sische Regierung in ein
 er dramatischen KÃ¤ltekrise den Ausnahmezustand ausruft und eine Gruppe vo
 n BedÃ¼rftigen in der riesigen Wohnung des Ehepaares Dubreuil unterbringtâ
 €¦VHS-Film der Woche | Frankreich 2015 - Tickets: 09561 / 239051
DTEND:20170607T000000
DTSTART:20170607T201500
LAST-MODIFIED:20170502T164800Z
LOCATION:Coburg\, Kino Utopolis
SUMMARY:Madame Christine ...
X-IMAGE:http://www.region-coburg.tv/images/medium/vhs-film-1276db0f.jpg
END:VEVENT
END:VCALENDAR
